BEGIN:VCALENDAR
VERSION:2.0
PRODID:-//Squarespace Inc/Squarespace 6//v6//EN
BEGIN:VEVENT
UID:53d0ef44e4b0d9fd48fb2188@squarespace.com
DTSTAMP:20140724T114818Z
DTSTART:20140810T203000Z
DTEND:20140810T213000Z
SUMMARY:Full Moon Beach Walk @ Loinneog Lúnasa
END:VEVENT
END:VCALENDAR
