BEGIN:VCALENDAR
VERSION:2.0
PRODID:-//Squarespace Inc/Squarespace 6//v6//EN
BEGIN:VEVENT
UID:53d0f29ce4b0c09c6f138202@squarespace.com
DTSTAMP:20140724T115531Z
DTSTART:20140806T090000Z
DTEND:20140806T190000Z
SUMMARY:Rock agus Roam at Maghery Festival 
END:VEVENT
END:VCALENDAR
