BEGIN:VCALENDAR
VERSION:2.0
PRODID:-//Squarespace Inc/Squarespace 6//v6//EN
BEGIN:VEVENT
UID:53d175a9e4b05f82ae3fb659@squarespace.com
DTSTAMP:20140724T211346Z
DTSTART:20140808T213000Z
DTEND:20140811T223000Z
SUMMARY:Loinneog Lúnasa - Flybreak
END:VEVENT
END:VCALENDAR
