BEGIN:VCALENDAR
VERSION:2.0
PRODID:-//Squarespace Inc/Squarespace 6//v6//EN
BEGIN:VEVENT
UID:53fb261be4b0f2dbc8009ed0@squarespace.com
DTSTAMP:20140904T095136Z
DTSTART:20140912T183000Z
DTEND:20140914T143000Z
SUMMARY:Rock agus Roam - Oileán Thoraigh / Tory Island
END:VEVENT
END:VCALENDAR
