BEGIN:VCALENDAR
VERSION:2.0
PRODID:-//Squarespace Inc/Squarespace 6//v6//EN
BEGIN:VEVENT
UID:5455672be4b056122448a1ff@squarespace.com
DTSTAMP:20141101T230712Z
DTSTART:20150817T223000Z
DTEND:20150902T113000Z
SUMMARY:Rock Agus Roam Goes East! 
END:VEVENT
END:VCALENDAR
