BEGIN:VCALENDAR
VERSION:2.0
PRODID:-//Squarespace Inc/Squarespace 6//v6//EN
BEGIN:VEVENT
UID:53d0edc1e4b0d2ee8e814c4f@squarespace.com
DTSTAMP:20140724T113327Z
DTSTART:20140724T113000Z
DTEND:20140926T123000Z
SUMMARY:Rock agus Roam Flybreak
END:VEVENT
END:VCALENDAR
