BEGIN:VCALENDAR
VERSION:2.0
PRODID:-//Squarespace Inc/Squarespace 6//v6//EN
BEGIN:VEVENT
UID:544144d6e4b0d342bff90556@squarespace.com
DTSTAMP:20150822T195455Z
DTSTART:20150817T170000Z
DTEND:20150902T190000Z
SUMMARY:Rock agus Roam Goes East - August 2015 
END:VEVENT
END:VCALENDAR
