BEGIN:VCALENDAR
VERSION:2.0
PRODID:-//Squarespace Inc/Squarespace 6//v6//EN
BEGIN:VEVENT
UID:546b54c1e4b07b6d976c71a7@squarespace.com
DTSTAMP:20141118T143342Z
DTSTART:20141228T110000Z
DTEND:20141228T133000Z
SUMMARY:Siúlóidí Rock agus Roam & Scoil Gheimhridh Gaoth Dobhair
END:VEVENT
END:VCALENDAR
