BEGIN:VCALENDAR
VERSION:2.0
PRODID:-//Squarespace Inc/Squarespace 6//v6//EN
BEGIN:VEVENT
UID:546b58eae4b02c92d2de3568@squarespace.com
DTSTAMP:20141118T143736Z
DTSTART:20141230T110000Z
DTEND:20141230T133000Z
SUMMARY:Siúlóidí Rock agus Roam & Scoil Gheimhridh Gaoth Dobhair
END:VEVENT
END:VCALENDAR
