BEGIN:VCALENDAR
VERSION:2.0
PRODID:-//Squarespace Inc/Squarespace 6//v6//EN
BEGIN:VEVENT
UID:546b5285e4b0f17878b8d5af@squarespace.com
DTSTAMP:20141202T135958Z
DTSTART:20141205T193000Z
DTEND:20141205T230000Z
SUMMARY:Rock agus Roam - Moonlit Beach Walk / Siúilóid cois farraige faoi s
 olais na gealaí
END:VEVENT
END:VCALENDAR
