BEGIN:VCALENDAR
VERSION:2.0
PRODID:-//Squarespace Inc/Squarespace 6//v6//EN
BEGIN:VEVENT
UID:55ec8e8de4b0be5bebcd2807@squarespace.com
DTSTAMP:20150906T191007Z
DTSTART:20151002T160000Z
DTEND:20151004T150000Z
SUMMARY:Rock & Roam - Cleamnhas Ceilteach Tory Island
END:VEVENT
END:VCALENDAR
