BEGIN:VCALENDAR
VERSION:2.0
PRODID:-//Squarespace Inc/Squarespace 6//v6//EN
BEGIN:VEVENT
UID:55ba1267e4b0361de10ac8e9@squarespace.com
DTSTAMP:20150803T112113Z
DTSTART:20151027T133000Z
DTEND:20151109T143000Z
SUMMARY:Whiskey Pilgrimage Oct & Nov 2015
END:VEVENT
END:VCALENDAR
