BEGIN:VCALENDAR
VERSION:2.0
PRODID:-//Squarespace Inc/Squarespace 6//v6//EN
BEGIN:VEVENT
UID:5649f18be4b00dedcf661c64@squarespace.com
DTSTAMP:20151120T142738Z
DTSTART:20151212T100000Z
DTEND:20151212T150000Z
SUMMARY:Nollaig Shona ó Fiontair mng / mng Ventures - Bígí linn ar an 12ú 
END:VEVENT
END:VCALENDAR
