BEGIN:VCALENDAR
VERSION:2.0
PRODID:-//Squarespace Inc/Squarespace 6//v6//EN
BEGIN:VEVENT
UID:55153b39e4b0ad84142000e0@squarespace.com
DTSTAMP:20150825T132834Z
DTSTART:20160429T173000Z
DTEND:20160502T163000Z
SUMMARY:Donegal Gaeltacht Way Walking Weekend / Deireadh Seachtaine Siúilói
 d Bealacha na Gaeltachta
END:VEVENT
END:VCALENDAR
