BEGIN:VCALENDAR
VERSION:2.0
PRODID:-//Squarespace Inc/Squarespace 6//v6//EN
BEGIN:VEVENT
UID:54f58d67e4b0d17d69970a08@squarespace.com
DTSTAMP:20150304T122612Z
DTSTART:20150411T100000Z
DTEND:20150412T130000Z
SUMMARY:Rock agus Roam Spring Extravaganza April 2015 
END:VEVENT
END:VCALENDAR
