BEGIN:VCALENDAR
VERSION:2.0
PRODID:-//Squarespace Inc/Squarespace 6//v6//EN
BEGIN:VEVENT
UID:55782e0fe4b02a4a537512a5@squarespace.com
DTSTAMP:20150616T152451Z
DTSTART:20150813T100000Z
DTEND:20150813T170000Z
SUMMARY:Archaeological Tory with 'Connecting Colmcille' 
END:VEVENT
END:VCALENDAR
