BEGIN:VCALENDAR
VERSION:2.0
PRODID:-//Squarespace Inc/Squarespace 6//v6//EN
BEGIN:VEVENT
UID:55803603e4b0dee124e35893@squarespace.com
DTSTAMP:20150616T145945Z
DTSTART:20150809T190000Z
DTEND:20150809T203000Z
SUMMARY:Siúlóid cois cósta i gclapsholas / Twilight beach walk le Loinneog 
 Lúnasa
END:VEVENT
END:VCALENDAR
