BEGIN:VCALENDAR
VERSION:2.0
PRODID:-//Squarespace Inc/Squarespace 6//v6//EN
BEGIN:VEVENT
UID:558025e8e4b098befa63ecd3@squarespace.com
DTSTAMP:20150616T134555Z
DTSTART:20150718T090000Z
DTEND:20150718T160000Z
SUMMARY:The Archaeology of the Cults of the Celtic God Lugh and Saint Colmc
 ille in Northwest Donegal
END:VEVENT
END:VCALENDAR
