BEGIN:VCALENDAR
VERSION:2.0
PRODID:-//Squarespace Inc/Squarespace 6//v6//EN
BEGIN:VEVENT
UID:5450f2bee4b0392d2765c29c@squarespace.com
DTSTAMP:20151110T175018Z
DTSTART:20160410T140000Z
DTEND:20160416T090000Z
SUMMARY:'Ceangal Cholmcille' le Brian Lacey - Meitheamh & Lúnasa 2016
GEO:52.700672;-8.655485
LOCATION:mng\, An Crannog\, Derrybeg\, Ireland
END:VEVENT
END:VCALENDAR
