BEGIN:VCALENDAR
VERSION:2.0
PRODID:-//Squarespace Inc/Squarespace 6//v6//EN
BEGIN:VEVENT
UID:55ba12fde4b065cd9943f708@squarespace.com
DTSTAMP:20150730T120720Z
DTSTART:20150730T123000Z
DTEND:20150730T133000Z
SUMMARY:10 day Tour in Northwest Ireland
END:VEVENT
END:VCALENDAR
