BEGIN:VCALENDAR
VERSION:2.0
PRODID:-//Squarespace Inc/Squarespace 6//v6//EN
BEGIN:VEVENT
UID:55604d48e4b086159c3b73f7@squarespace.com
DTSTAMP:20150623T112258Z
DTSTART:20150708T090000Z
DTEND:20150708T180000Z
SUMMARY:Rock Climbing & Abseiling day for families - Booking Essential
END:VEVENT
END:VCALENDAR
