BEGIN:VCALENDAR
VERSION:2.0
PRODID:-//Squarespace Inc/Squarespace 6//v6//EN
BEGIN:VEVENT
UID:5450f349e4b0cb57833036a6@squarespace.com
DTSTAMP:20150911T093950Z
DTSTART:20160508T140000Z
DTEND:20160514T090000Z
SUMMARY:'Connecting Colmcille' with Brian Lacey - 7 Dates - June - October 
 2016
END:VEVENT
END:VCALENDAR
