BEGIN:VCALENDAR
VERSION:2.0
PRODID:-//Squarespace Inc/Squarespace 6//v6//EN
BEGIN:VEVENT
UID:55d98b23e4b001723c0f979c@squarespace.com
DTSTAMP:20151110T163617Z
DTSTART:20160410T140000Z
DTEND:20160416T090000Z
SUMMARY:Connecting Colmcille - Customised Cultural pilgrimage guided by Dr. 
 Brian Lacey
END:VEVENT
END:VCALENDAR
